BEGIN:VCALENDAR
VERSION:2.0
PRODID:-//ACHEP - ECPv6.15.12.2//NONSGML v1.0//EN
CALSCALE:GREGORIAN
METHOD:PUBLISH
X-WR-CALNAME:ACHEP
X-ORIGINAL-URL:https://achep.pt
X-WR-CALDESC:Eventos para ACHEP
REFRESH-INTERVAL;VALUE=DURATION:PT1H
X-Robots-Tag:noindex
X-PUBLISHED-TTL:PT1H
BEGIN:VTIMEZONE
TZID:Europe/Lisbon
BEGIN:DAYLIGHT
TZOFFSETFROM:+0000
TZOFFSETTO:+0100
TZNAME:WEST
DTSTART:20240331T010000
END:DAYLIGHT
BEGIN:STANDARD
TZOFFSETFROM:+0100
TZOFFSETTO:+0000
TZNAME:WET
DTSTART:20241027T010000
END:STANDARD
BEGIN:DAYLIGHT
TZOFFSETFROM:+0000
TZOFFSETTO:+0100
TZNAME:WEST
DTSTART:20250330T010000
END:DAYLIGHT
BEGIN:STANDARD
TZOFFSETFROM:+0100
TZOFFSETTO:+0000
TZNAME:WET
DTSTART:20251026T010000
END:STANDARD
BEGIN:DAYLIGHT
TZOFFSETFROM:+0000
TZOFFSETTO:+0100
TZNAME:WEST
DTSTART:20260329T010000
END:DAYLIGHT
BEGIN:STANDARD
TZOFFSETFROM:+0100
TZOFFSETTO:+0000
TZNAME:WET
DTSTART:20261025T010000
END:STANDARD
END:VTIMEZONE
BEGIN:VEVENT
DTSTART;VALUE=DATE:20250220
DTEND;VALUE=DATE:20250221
DTSTAMP:20260421T210108
CREATED:20250530T173546Z
LAST-MODIFIED:20250606T140335Z
UID:1213-1740009600-1740095999@achep.pt
SUMMARY:I Congresso de Enfermagem Perioperatória de Braga
DESCRIPTION:I Congresso de Enfermagem Perioperatória de Braga\nPerioperatório em Perspetiva – No Limiar do FuturoFórum Braga | ️ 20 e 21 de fevereiro de 2025 \nO I Congresso de Enfermagem Perioperatória de Braga foi muito mais do que um evento científico — foi um momento transformador para a enfermagem perioperatória em Portugal. Durante dois dias\, o Fórum Braga acolheu mais de 350 profissionais\, entre enfermeiros\, docentes\, investigadores e estudantes\, num encontro marcado pela inovação\, partilha e inspiração. \nSob o mote “Perioperatório em Perspetiva – No Limiar do Futuro”\, o congresso destacou-se pela qualidade dos conteúdos\, pela diversidade dos temas abordados e pela forte mobilização da comunidade. Ao todo\, foram apresentadas mais de 40 comunicações científicas\, incluindo posters\, e-posters e apresentações orais\, em áreas que vão desde a anestesia à cirurgia ambulatória\, passando pela sustentabilidade\, robótica\, segurança do doente e comunicação em contexto cirúrgico. \nO programa científico integrou sete painéis temáticos e quatro workshops práticos\, oferecendo uma abordagem sólida\, atual e especializada às novas exigências da prática perioperatória. \nA sessão de abertura contou com a presença de entidades de referência\, como a Ordem dos Enfermeiros\, a Câmara Municipal de Braga\, a ACHEP e unidades locais de saúde\, dando o tom à ambição do congresso: colocar a enfermagem perioperatória no centro da transformação dos cuidados cirúrgicos. \nEntre os momentos mais inspiradores\, destacou-se o painel dedicado a projetos inovadores e a tertúlia “Cuidados Perioperatórios – Perspetivar a Mudança no Modelo ULS”\, que lançaram olhares desafiadores sobre o futuro da profissão. \nTemas como ética\, gestão de stocks personalizados\, inteligência emocional\, hospitalização domiciliária e sustentabilidade no bloco operatório tiveram também o seu merecido destaque — sublinhando a importância de uma visão holística e integrada dos cuidados. \nO congresso terminou com a entrega dos prémios para a melhor comunicação oral e melhor poster\, celebrando a excelência científica e o contributo dos profissionais para o avanço da enfermagem perioperatória. \nEste primeiro congresso consolidou-se como um ponto de partida para um novo ciclo de reflexão\, valorização e inovação\, na prática perioperatória.
URL:https://achep.pt/evento/i-congresso-de-enfermagem-perioperatoria-de-braga/
CATEGORIES:Congresso
ATTACH;FMTTYPE=image/jpeg:https://achep.pt/wp-content/uploads/2025/05/IMG_2592-1-scaled.jpg
END:VEVENT
END:VCALENDAR